BEGIN:VCALENDAR
VERSION:2.0
PRODID:-//Squarespace Inc/Squarespace 6//v6//EN
BEGIN:VEVENT
UID:59bb1fac37c581deebf83465@squarespace.com
DTSTAMP:20170915T003354Z
DTSTART:20171202T130000Z
DTEND:20171202T170000Z
SUMMARY:Zone Games
END:VEVENT
END:VCALENDAR
