BEGIN:VCALENDAR
VERSION:2.0
PRODID:-//Squarespace Inc/Squarespace 6//v6//EN
BEGIN:VEVENT
UID:5a275bb353450ab58fc784c3@squarespace.com
DTSTAMP:20171206T025555Z
DTSTART:20171210T143000Z
DTEND:20171211T003000Z
SUMMARY:OPEN RIBBON DAY
GEO:-36.854788;174.602388
LOCATION:Massey Pony Club\, 90 Glen Road\, Auckland\, Auckland\, 0612\, New 
 Zealand
END:VEVENT
END:VCALENDAR
