BEGIN:VCALENDAR
VERSION:2.0
PRODID:-//Squarespace Inc/Squarespace 6//v6//EN
BEGIN:VEVENT
UID:5a1201ce24a694409fab9c43@squarespace.com
DTSTAMP:20171119T221626Z
DTSTART:20171130T220000Z
DTEND:20171201T010000Z
SUMMARY:TWILIGHT SHOWJUMPING SERIES
END:VEVENT
END:VCALENDAR
