BEGIN:VCALENDAR
VERSION:2.0
PRODID:-//Squarespace Inc/Squarespace 6//v6//EN
BEGIN:VEVENT
UID:5a1202baf9619a64a2ea36b2@squarespace.com
DTSTAMP:20171119T221655Z
DTSTART:20180208T220000Z
DTEND:20180209T010000Z
SUMMARY:TWILIGHT SHOWJUMPING SERIES
END:VEVENT
END:VCALENDAR
