BEGIN:VCALENDAR
VERSION:2.0
PRODID:-//Squarespace Inc/Squarespace 6//v6//EN
BEGIN:VEVENT
UID:5a1202de53450af6e5ddca09@squarespace.com
DTSTAMP:20171119T221715Z
DTSTART:20180308T220000Z
DTEND:20180309T010000Z
SUMMARY:TWILIGHT SHOWJUMPING SERIES
END:VEVENT
END:VCALENDAR
