BEGIN:VCALENDAR
VERSION:2.0
PRODID:-//Squarespace Inc/Squarespace 6//v6//EN
BEGIN:VEVENT
UID:59bb1e7364b05f398ca956aa@squarespace.com
DTSTAMP:20170915T002826Z
DTSTART:20171108T230000Z
DTEND:20171109T010000Z
SUMMARY:Adult Rally 3
END:VEVENT
END:VCALENDAR
