BEGIN:VCALENDAR
VERSION:2.0
PRODID:-//Squarespace Inc/Squarespace 6//v6//EN
BEGIN:VEVENT
UID:59bb01d7f9a61e6bc0dcc5c5@squarespace.com
DTSTAMP:20170914T222658Z
DTSTART:20171107T230000Z
DTEND:20171108T010000Z
SUMMARY:Junior Rally 3
END:VEVENT
END:VCALENDAR
