BEGIN:VCALENDAR
VERSION:2.0
PRODID:-//Squarespace Inc/Squarespace 6//v6//EN
BEGIN:VEVENT
UID:59bb016a1f318d97ef5a5528@squarespace.com
DTSTAMP:20170914T222459Z
DTSTART:20171104T130000Z
DTEND:20171104T160000Z
SUMMARY:WORKING BEE 2
END:VEVENT
END:VCALENDAR
