BEGIN:VCALENDAR
VERSION:2.0
PRODID:-//Squarespace Inc/Squarespace 6//v6//EN
BEGIN:VEVENT
UID:59bb1f4c37c581deebf830f4@squarespace.com
DTSTAMP:20170915T003228Z
DTSTART:20171130T223000Z
DTEND:20171201T003000Z
SUMMARY:Massey PC Twilight Show Jumping
END:VEVENT
END:VCALENDAR
