BEGIN:VCALENDAR
VERSION:2.0
PRODID:-//Squarespace Inc/Squarespace 6//v6//EN
BEGIN:VEVENT
UID:59bb0702a803bb143254981c@squarespace.com
DTSTAMP:20170915T003044Z
DTSTART:20171129T230000Z
DTEND:20171130T010000Z
SUMMARY:Adults Rally 6
END:VEVENT
END:VCALENDAR
