BEGIN:VCALENDAR
VERSION:2.0
PRODID:-//Squarespace Inc/Squarespace 6//v6//EN
BEGIN:VEVENT
UID:59bb068b3e00beb688a7d405@squarespace.com
DTSTAMP:20170915T002948Z
DTSTART:20171128T230000Z
DTEND:20171129T010000Z
SUMMARY:Junior Rally 6.
END:VEVENT
END:VCALENDAR
