BEGIN:VCALENDAR
VERSION:2.0
PRODID:-//Squarespace Inc/Squarespace 6//v6//EN
BEGIN:VEVENT
UID:59bb0414a9db09e3c49dfb6c@squarespace.com
DTSTAMP:20170914T223632Z
DTSTART:20171125T120000Z
DTEND:20171127T010000Z
SUMMARY:EQUITANA
END:VEVENT
END:VCALENDAR
