BEGIN:VCALENDAR
VERSION:2.0
PRODID:-//Squarespace Inc/Squarespace 6//v6//EN
BEGIN:VEVENT
UID:59bb03c28fd4d2574f1cb507@squarespace.com
DTSTAMP:20170915T002923Z
DTSTART:20171122T230000Z
DTEND:20171123T000000Z
SUMMARY:Adults Rally 5
END:VEVENT
END:VCALENDAR
