BEGIN:VCALENDAR
VERSION:2.0
PRODID:-//Squarespace Inc/Squarespace 6//v6//EN
BEGIN:VEVENT
UID:59bb038f8fd4d2574f1cb172@squarespace.com
DTSTAMP:20170915T002908Z
DTSTART:20171121T230000Z
DTEND:20171122T000000Z
SUMMARY:Junior Rally 5
END:VEVENT
END:VCALENDAR
