BEGIN:VCALENDAR
VERSION:2.0
PRODID:-//Squarespace Inc/Squarespace 6//v6//EN
BEGIN:VEVENT
UID:59bb0300914e6b1806fb8f59@squarespace.com
DTSTAMP:20170915T002854Z
DTSTART:20171115T230000Z
DTEND:20171116T000000Z
SUMMARY:Adult Rally 4
END:VEVENT
END:VCALENDAR
