BEGIN:VCALENDAR
VERSION:2.0
PRODID:-//Squarespace Inc/Squarespace 6//v6//EN
BEGIN:VEVENT
UID:59bb034a2aeba5d82976542d@squarespace.com
DTSTAMP:20170914T223216Z
DTSTART:20171114T230000Z
DTEND:20171115T000000Z
SUMMARY:Junior Rally 4
END:VEVENT
END:VCALENDAR
