BEGIN:VCALENDAR
VERSION:2.0
PRODID:-//Squarespace Inc/Squarespace 6//v6//EN
BEGIN:VEVENT
UID:59bb0251f7e0ab56ecb9d603@squarespace.com
DTSTAMP:20170914T222854Z
DTSTART:20171112T140000Z
DTEND:20171112T200000Z
SUMMARY:Massey Pony Club Ribbon Day
END:VEVENT
END:VCALENDAR
