BEGIN:VCALENDAR
VERSION:2.0
PRODID:-//Squarespace Inc/Squarespace 6//v6//EN
BEGIN:VEVENT
UID:59bb0117f09ca4970ac163c6@squarespace.com
DTSTAMP:20170915T002656Z
DTSTART:20171101T220000Z
DTEND:20171102T000000Z
SUMMARY:Adults Rally 2
END:VEVENT
END:VCALENDAR
