BEGIN:VCALENDAR
VERSION:2.0
PRODID:-//Squarespace Inc/Squarespace 6//v6//EN
BEGIN:VEVENT
UID:59bb00ba4c326d525bf17ba2@squarespace.com
DTSTAMP:20170915T002634Z
DTSTART:20171031T220000Z
DTEND:20171101T000000Z
SUMMARY:Junior Rally 2
END:VEVENT
END:VCALENDAR
