BEGIN:VCALENDAR
VERSION:2.0
PRODID:-//Squarespace Inc/Squarespace 6//v6//EN
BEGIN:VEVENT
UID:59bb0057b1ffb66b93467e4e@squarespace.com
DTSTAMP:20170915T002621Z
DTSTART:20171018T220000Z
DTEND:20171020T000000Z
SUMMARY:Adults Rally 1.
END:VEVENT
END:VCALENDAR
