BEGIN:VCALENDAR
VERSION:2.0
PRODID:-//Squarespace Inc/Squarespace 6//v6//EN
BEGIN:VEVENT
UID:59bafff1bce1767624c4353d@squarespace.com
DTSTAMP:20170915T002602Z
DTSTART:20171017T220000Z
DTEND:20171018T000000Z
SUMMARY:Junior Rally 1.
END:VEVENT
END:VCALENDAR
