BEGIN:VCALENDAR
VERSION:2.0
PRODID:-//Squarespace Inc/Squarespace 6//v6//EN
BEGIN:VEVENT
UID:59baff4a29f187710d9aac06@squarespace.com
DTSTAMP:20170914T221627Z
DTSTART:20171015T180000Z
DTEND:20171015T190000Z
SUMMARY:Summer Grazing Starts
END:VEVENT
END:VCALENDAR
