BEGIN:VCALENDAR
VERSION:2.0
PRODID:-//Squarespace Inc/Squarespace 6//v6//EN
BEGIN:VEVENT
UID:59baf9c5bebafb4f043bda62@squarespace.com
DTSTAMP:20171004T222617Z
DTSTART:20171014T190000Z
DTEND:20171014T210000Z
SUMMARY:Junior Rally Unmounted
GEO:-36.858824;174.609543
LOCATION:Massey Pony Club\, Glen Road\, Auckland\, Auckland\, 0614\, New Ze
 aland
END:VEVENT
END:VCALENDAR
